BEGIN:VCALENDAR
METHOD:PUBLISH
VERSION:2.0
CALSCALE:GREGORIAN
PRODID:-//NONSGML WPForms//NONSGML Sugar Calendar Feeds v3.10.0//EN
X-WR-CALNAME:Útimissiónsbarnaringur
X-WR-CALDESC:
X-WR-TIMEZONE:Europe/London
BEGIN:VTIMEZONE
TZID:Europe/London
BEGIN:DAYLIGHT
TZOFFSETFROM:+0100
TZOFFSETTO:+0100
DTSTART:20250409T053000
TZNAME:BST
END:DAYLIGHT
END:VTIMEZONE
BEGIN:VTIMEZONE
TZID:Europe/London
BEGIN:DAYLIGHT
TZOFFSETFROM:+0100
TZOFFSETTO:+0100
DTSTART:20250409T053000
TZNAME:BST
END:DAYLIGHT
END:VTIMEZONE
BEGIN:VEVENT
SUMMARY:Útimissiónsbarnaringur
DESCRIPTION:
URL;VALUE=URI:https://tabor.fo/events/utimissionsbarnaringur-2/
UID:urn:uuid:f3af7866-b936-4769-a526-d9d3b003bc2c
STATUS:CONFIRMED
ORGANIZER:
DTSTAMP:20260422T011804Z
DTSTART;TZID=Europe/London:20251008T173000
DTEND;TZID=Europe/London:20251008T190000
END:VEVENT
END:VCALENDAR