BEGIN:VCALENDAR
METHOD:PUBLISH
VERSION:2.0
CALSCALE:GREGORIAN
PRODID:-//NONSGML WPForms//NONSGML Sugar Calendar Feeds v3.10.0//EN
X-WR-CALNAME:Útimissiónsbarnaringur
X-WR-CALDESC:
X-WR-TIMEZONE:Europe/London
BEGIN:VTIMEZONE
TZID:Europe/London
BEGIN:DAYLIGHT
TZOFFSETFROM:+0100
TZOFFSETTO:+0100
DTSTART:20250423T053000
TZNAME:BST
END:DAYLIGHT
END:VTIMEZONE
BEGIN:VTIMEZONE
TZID:Europe/London
BEGIN:DAYLIGHT
TZOFFSETFROM:+0100
TZOFFSETTO:+0100
DTSTART:20250423T053000
TZNAME:BST
END:DAYLIGHT
END:VTIMEZONE
BEGIN:VEVENT
SUMMARY:Útimissiónsbarnaringur
DESCRIPTION:
URL;VALUE=URI:https://tabor.fo/events/utimissionsbarnaringur-3/
UID:urn:uuid:50f91d05-1c14-49f1-bd67-d5be4bc231ba
STATUS:CONFIRMED
ORGANIZER:
DTSTAMP:20260422T030433Z
DTSTART;TZID=Europe/London:20251022T173000
DTEND;TZID=Europe/London:20251022T190000
END:VEVENT
END:VCALENDAR