BEGIN:VCALENDAR
METHOD:PUBLISH
VERSION:2.0
CALSCALE:GREGORIAN
PRODID:-//NONSGML WPForms//NONSGML Sugar Calendar Feeds v3.10.0//EN
X-WR-CALNAME:Útimissiónsbarnaringur
X-WR-CALDESC:
X-WR-TIMEZONE:Europe/London
BEGIN:VTIMEZONE
TZID:Europe/London
BEGIN:STANDARD
TZOFFSETFROM:+0100
TZOFFSETTO:+0000
DTSTART:20251026T010000
TZNAME:GMT
END:STANDARD
END:VTIMEZONE
BEGIN:VTIMEZONE
TZID:Europe/London
BEGIN:STANDARD
TZOFFSETFROM:+0100
TZOFFSETTO:+0000
DTSTART:20251026T010000
TZNAME:GMT
END:STANDARD
END:VTIMEZONE
BEGIN:VEVENT
SUMMARY:Útimissiónsbarnaringur
DESCRIPTION:
URL;VALUE=URI:https://tabor.fo/events/utimissionsbarnaringur-4/
UID:urn:uuid:1aa0ad4f-49f3-47a6-adfa-0680423a9b6d
STATUS:CONFIRMED
ORGANIZER:
DTSTAMP:20260422T045403Z
DTSTART;TZID=Europe/London:20251105T173000
DTEND;TZID=Europe/London:20251105T190000
END:VEVENT
END:VCALENDAR