BEGIN:VCALENDAR
METHOD:PUBLISH
VERSION:2.0
CALSCALE:GREGORIAN
PRODID:-//NONSGML WPForms//NONSGML Sugar Calendar Feeds v3.10.0//EN
X-WR-CALNAME:Útimissiónsbarnaringur
X-WR-CALDESC:
X-WR-TIMEZONE:Europe/London
BEGIN:VTIMEZONE
TZID:Europe/London
BEGIN:DAYLIGHT
TZOFFSETFROM:+0000
TZOFFSETTO:+0100
DTSTART:20250330T010000
TZNAME:BST
END:DAYLIGHT
END:VTIMEZONE
BEGIN:VTIMEZONE
TZID:Europe/London
BEGIN:DAYLIGHT
TZOFFSETFROM:+0000
TZOFFSETTO:+0100
DTSTART:20250330T010000
TZNAME:BST
END:DAYLIGHT
END:VTIMEZONE
BEGIN:VEVENT
SUMMARY:Útimissiónsbarnaringur
DESCRIPTION:
URL;VALUE=URI:https://tabor.fo/events/utimissionsbarnaringur/
UID:urn:uuid:7c69165a-8eda-4661-95c1-616e754c393d
STATUS:CONFIRMED
ORGANIZER:
DTSTAMP:20260421T233749Z
DTSTART;TZID=Europe/London:20250924T173000
DTEND;TZID=Europe/London:20250924T190000
END:VEVENT
END:VCALENDAR